BEGIN:VCALENDAR
VERSION:2.0
PRODID:-//eventon.com NONSGML v1.0//EN
CALSCALE:GREGORIAN
METHOD:PUBLISH
BEGIN:VEVENT
UID:69e74a9525511
DTSTAMP:20260421T095949Z
DTSTART:20261024T080000Z
DTEND:20261025T170000Z
LOCATION:Kloster-Eberbach Kloster-Eberbach Str. 1\,  65346 Eltville
SUMMARY:FineArts Kloster Eberbach
DESCRIPTION:Die Crème de la Crème der Kunst und des Designs in Eltville N
 icht nur Feinschmecker und Weinfreunde zieht es in den Rheingau\,  auch fü
 r Kunstkenner und Menschen\,  die das Besondere lieben\,  wird dieser Lands
 trich mehr und mehr zur ersten Adresse. Bereits zum 14. Mal macht sich das 
 Kloster Eberbach fein[..]\nhttps://kieselsteinkunst.de/events/fine-arts-klo
 ster-eberbach-2026/
URL:https://kieselsteinkunst.de/events/fine-arts-kloster-eberbach-2026/
END:VEVENT
END:VCALENDAR