BEGIN:VCALENDAR
VERSION:2.0
PRODID:-//eventon.com NONSGML v1.0//EN
CALSCALE:GREGORIAN
METHOD:PUBLISH
BEGIN:VEVENT
UID:69e74757d8470
DTSTAMP:20260421T094559Z
DTSTART:20251003T080000Z
DTEND:20251005T160000Z
LOCATION:Schloss Dyck 41363 Jüchen
SUMMARY:Schlossherbst in Schloss Dyck
DESCRIPTION:Der Schlossherbst als beliebtes Familienevent präsentiert sich
  auf einem großen Rundweg rund um das imposante Wasserschloss. Wie gewohnt
  wird es regional\,  vielfältig und unterhaltsam zugehen. In gebührendem 
 Abstand voneinander präsentieren 130 Aussteller auf dem Rundweg ausgesucht
 e kulinarische Produkte\,  Mode\,  Lifestyle- und Outdoor-Artikel passend z
 ur Jahreszeit. Gaumenfreuden wie Zwiebelkuchen\,  Federweißer\,  Trüffel[
 ..]\nhttps://kieselsteinkunst.de/events/schlossherbst-2025/
URL:https://kieselsteinkunst.de/events/schlossherbst-2025/
END:VEVENT
END:VCALENDAR