BEGIN:VCALENDAR
VERSION:2.0
PRODID:-//eventon.com NONSGML v1.0//EN
CALSCALE:GREGORIAN
METHOD:PUBLISH
BEGIN:VEVENT
UID:69e74a23afb03
DTSTAMP:20260421T095755Z
DTSTART:20241203T220000Z
DTEND:20241207T220000Z
LOCATION:Grandhotel Schloss Bensberg Kadettenstraße\,  51429 Bergisch Gladbach
SUMMARY:Unikat Weih­nachts­markt auf Schloss Bensberg
DESCRIPTION:Unikat Weih­nachts­markt auf Schloss Bensberg https://kiesels
 teinkunst.de/events/unikat-weihnachtsmarkt-auf-schloss-bensberg-2024_1/\nht
 tps://kieselsteinkunst.de/events/unikat-weihnachtsmarkt-auf-schloss-bensber
 g-3/
URL:https://kieselsteinkunst.de/events/unikat-weihnachtsmarkt-auf-schloss-bensberg-3/
END:VEVENT
END:VCALENDAR