BEGIN:VCALENDAR
VERSION:2.0
PRODID:-//eventon.com NONSGML v1.0//EN
CALSCALE:GREGORIAN
METHOD:PUBLISH
BEGIN:VEVENT
UID:69e7367109827
DTSTAMP:20260421T083353Z
DTSTART:20240330T220000Z
DTEND:20240331T200000Z
LOCATION:Schloss Dyck 41363 Jüchen
SUMMARY:Schloss­frühling
DESCRIPTION:Schloss­frühling Schloss­frühling\nhttps://kieselsteinkunst
 .de/events/schlossfruehling/
URL:https://kieselsteinkunst.de/events/schlossfruehling/
END:VEVENT
END:VCALENDAR